BEGIN:VCALENDAR
VERSION:2.0
PRODID:-//Les Codices de Vicrabb - ECPv5.1.1//NONSGML v1.0//EN
CALSCALE:GREGORIAN
METHOD:PUBLISH
X-WR-CALNAME:Les Codices de Vicrabb
X-ORIGINAL-URL:http://vincianeamorini.be
X-WR-CALDESC:Évènements pour Les Codices de Vicrabb
BEGIN:VTIMEZONE
TZID:Europe/Brussels
BEGIN:DAYLIGHT
TZOFFSETFROM:+0100
TZOFFSETTO:+0200
TZNAME:CEST
DTSTART:20150329T010000
END:DAYLIGHT
BEGIN:STANDARD
TZOFFSETFROM:+0200
TZOFFSETTO:+0100
TZNAME:CET
DTSTART:20151025T010000
END:STANDARD
END:VTIMEZONE
BEGIN:VEVENT
DTSTART;TZID=Europe/Brussels:20151014T090000
DTEND;TZID=Europe/Brussels:20151018T170000
DTSTAMP:20260424T164409
CREATED:20150826T082111Z
LAST-MODIFIED:20150826T082111Z
UID:6158-1444813200-1445187600@vincianeamorini.be
SUMMARY:Salon de l'éducation
DESCRIPTION:Salon de l’éducation en Belgique francophone \n
URL:http://vincianeamorini.be/event/salon-de-leducation-2/
LOCATION:Charleroi Expo (Hall 1)\, Avenue de l'Europe\, 21\, Charleroi\, Hainaut\, 6000\, Belgium
CATEGORIES:Divers
ATTACH;FMTTYPE=image/png:http://vincianeamorini.be/wp-content/uploads/2015/08/11796423_883029141771956_8220841556467510463_n.png
END:VEVENT
END:VCALENDAR