BEGIN:VCALENDAR
VERSION:2.0
PRODID:-//Les Codices de Vicrabb - ECPv5.1.1//NONSGML v1.0//EN
CALSCALE:GREGORIAN
METHOD:PUBLISH
X-WR-CALNAME:Les Codices de Vicrabb
X-ORIGINAL-URL:https://vincianeamorini.be
X-WR-CALDESC:Évènements pour Les Codices de Vicrabb
BEGIN:VTIMEZONE
TZID:Europe/Brussels
BEGIN:DAYLIGHT
TZOFFSETFROM:+0100
TZOFFSETTO:+0200
TZNAME:CEST
DTSTART:20130331T010000
END:DAYLIGHT
BEGIN:STANDARD
TZOFFSETFROM:+0200
TZOFFSETTO:+0100
TZNAME:CET
DTSTART:20131027T010000
END:STANDARD
END:VTIMEZONE
BEGIN:VEVENT
DTSTART;TZID=Europe/Brussels:20131127T133000
DTEND;TZID=Europe/Brussels:20131127T163000
DTSTAMP:20260423T173012
CREATED:20131107T125438Z
LAST-MODIFIED:20131107T125439Z
UID:3012-1385559000-1385569800@vincianeamorini.be
SUMMARY:Fabcamp Ans
DESCRIPTION:Les sessions Fabcamp sont  l’occasion pour vous de trouver des réponses concrètes à vos problématiques dans votre lieu de prédilection : l’école ! \nPour ceux qui découvrent le concept\, un Fabcamp  est un atelier de fabrication de cours à l’aide du numérique.  Lors d’un après-midi\, enseignants et pédagogues sont rassemblés afin de créer de manière collaborative des ressources pédagogiques ou de travailler à la mise en place des processus permettant la création de ressources. Il s’agit donc de séances concrètes de production\, gratuites et ouvertes à tous. Des conseillers TICE seront là pour vous aider au mieux et vous accompagner pédagogiquement dans cette production ! \nEn début de séance vous serez organisés en groupe d’intéret et travaillerez ensemble pendant une demi-journée. A l’issue de l’atelier une mise en commun aura lieu et vous permettra de partager votre éxperience. \n  \n13h15 – Café d’accueil\n13h30 – Début de l’atelier et création des groupes\n15h45 – Mise en commun des productions et expériences\n16h15 – Fin de l’atelier \n  \nN’hésitez pas à apporter votre propre matériel (tablette\, netbook etc.) ! \n
URL:https://vincianeamorini.be/event/fabcamp-ans/
LOCATION:Ecole Sainte-Thérèse\, Rue Président Wilson 5\, Ans\, Liège\, 4430\, Belgium
CATEGORIES:Fabcamp
ATTACH;FMTTYPE=image/png:https://vincianeamorini.be/wp-content/uploads/2013/01/fabcamp.png
END:VEVENT
BEGIN:VEVENT
DTSTART;TZID=Europe/Brussels:20131127T183000
DTEND;TZID=Europe/Brussels:20131127T210000
DTSTAMP:20260423T173012
CREATED:20131118T131925Z
LAST-MODIFIED:20131118T131926Z
UID:3057-1385577000-1385586000@vincianeamorini.be
SUMMARY:Café numérique Waterloo
DESCRIPTION:Père Noël et Saint-Nicolas achètent en ligne. Et vous?\nFace au premier succès rencontré avec le Café Numérique consacré à la notoriété en ligne\, un nouveau rendez-vous est fixé pour tous les amateurs du net. Au programme de cette séance : « Achetez en ligne vos cadeaux de fin d’année. Gain de Temps ? Prix Attractif ? En toute sécurité ?….\nAutour d’un verre\, dans une ambiance conviviale\, le café numérique veut élargir vos connaissances en matière informatique et susciter des rencontres entre les participants et éventuellement des projets… \nCe mercredi 27 novembre\, se déroulera le second Café Numérique de Waterloo au Bar de l’Amusoir. Ce concept se veut être didactique\, convivial et social. Pour ce rendez-vous\, trois orateurs aux expériences différentes seront présents pour aborder le thème « Père Noël et Saint-Nicolas achètent en ligne. Et vous? ». L’entrée est gratuite et ouverte à tous.\nL’achat en ligne vous évite les embouteillages\, la cohue et permet un choix réfléchi. Une panoplie de sites existe… Cette séance présentera deux formules originales. Une liste de commerces locaux actifs sur le net sera aussi remise à tous les participants. \nNos orateurs\nBien qu’acheter en ligne soit sécurisé\, plusieurs hésitent encore ou évitent… Et pourtant\, un représentant de secteur bancaire détaillera les différentes procédures de sécurité en place à priori et à postériori. \nThomas Verhulst créateur de Kadolog.com: Préparer sa liste de cadeaux sur internet pour être sûr de faire et se faire plaisir. Kadolog est né du constat qu’à la question “Que veux-tu pour Noël ?”\, peu de gens peuvent répondre\, malgré la multitude d’idées eues au cours de l’année écoulée. Kadolog est l’outil idéal pour diriger vos amis et famille pour l’achat de vos cadeaux et ceux de vos enfants\, pour être sûr de faire mouche! \nSell4you et Ebay : Ebay reste le site de référence pour les achats en ligne. A l’occasion de cette rencontre\,  Aurélien Fossier présentera le site Sell4you qui vend pour vous en ligne sur ebay.. Sell4you s’occupe de toutes les démarches: prise de photos\, descriptif complet et fidèle de vos objets\, mise en ligne\, réponses aux questions des acheteurs. Vous pouvez consulter à tout moment l’évolution de vos ventes\, 24/24 et 7j/7. \nConclusion: Les opportunités de la vente en ligne pour les commerces de proximité\, par Marina Aubert\, de Orchestraaa \nCafé Numérique de Waterloo\, ce  mercredi 27 novembre 2013 au Bar de l’Amusoir\, 123 chaussée de Bruxelles. Thème : « Père Noël et  Saint-Nicolas achètent en ligne. Et vous ?». Ouverture des portes à 18h30. Premières interventions  dès 19h. Entrée gratuite. Ouvert à tous\, tous niveaux confondus. Inscriptions souhaitées via  www.cafenwoo2.eventbrite.com. \n
URL:https://vincianeamorini.be/event/cafe-numerique-waterloo/
LOCATION:Bar de l’Amusoir\, 123 chaussée de Bruxelles\, Waterloo\, Brabant Wallon\, 1410\, Belgium
CATEGORIES:Café numérique
ATTACH;FMTTYPE=image/jpeg:https://vincianeamorini.be/wp-content/uploads/2013/11/logo-waterloo.jpg
END:VEVENT
END:VCALENDAR