BEGIN:VCALENDAR
VERSION:2.0
PRODID:-//Les Codices de Vicrabb - ECPv5.1.1//NONSGML v1.0//EN
CALSCALE:GREGORIAN
METHOD:PUBLISH
X-WR-CALNAME:Les Codices de Vicrabb
X-ORIGINAL-URL:https://vincianeamorini.be
X-WR-CALDESC:Évènements pour Les Codices de Vicrabb
BEGIN:VTIMEZONE
TZID:Europe/Brussels
BEGIN:DAYLIGHT
TZOFFSETFROM:+0100
TZOFFSETTO:+0200
TZNAME:CEST
DTSTART:20130331T010000
END:DAYLIGHT
BEGIN:STANDARD
TZOFFSETFROM:+0200
TZOFFSETTO:+0100
TZNAME:CET
DTSTART:20131027T010000
END:STANDARD
END:VTIMEZONE
BEGIN:VEVENT
DTSTART;TZID=Europe/Brussels:20131219T190000
DTEND;TZID=Europe/Brussels:20131219T210000
DTSTAMP:20260423T172943
CREATED:20131216T100307Z
LAST-MODIFIED:20131216T100307Z
UID:3214-1387479600-1387486800@vincianeamorini.be
SUMMARY:Café numérique Arlon
DESCRIPTION:L’achat en ligne & Apéro numérique\nEn cette période de “presque-noel-donc-cadeaux“\, nous vous proposons une sensibilisation à l’achat en ligne. Comment acheter en sécurité? Bien choisir ses sites. La confiance envers son vendeur doit être réciproque. \nAprès cette session\, nous vous proposerons un “apéro-numérique“! \nNotre intervenant est Damien Jacob\, actif depuis plus de 20 ans dans le domaine des T.I.C. en France et en Belgique. Notre orateur est formateur et consultant indépendant (stratégies sur le web\, e-Business\, eCommerce tant BtoC que BtoB). Il enseigne par ailleurs à HEC-Ecole de gestion de l’Université de Liège\, à la Haute Ecole de la Province de Liège et à l’Université de Strasbourg. \n\nSite web : http://www.retis.be\nCompte Twitter : @retis\nLinkedIn : http://www.linkedin.com/in/damienjacob\n\nC’est avec plaisir que l’accueillons sur le sujet de l’e-commerce: “ Comment créer un climat de confiance entre consommateurs et e-commerçants “. Vous aurez une présentation des 5 principales sources de méfiances du consommateur face à l’e-commerce\, mais aussi risque d’arnaque et fraude pour l’acheteur et pour le vendeur. \nNous terminerons avec un apéro numérique pour notre dernier Café Numérique Arlon de cette année 2013 et pour fêter Noël ensemble! \n
URL:https://vincianeamorini.be/event/cafe-numerique-arlon-2/
LOCATION:InforJeunes Arlon\, PLACE DIDIER 31\, Arlon\, Luxembourg\, 6700\, Belgium
CATEGORIES:Café numérique
ATTACH;FMTTYPE=image/jpeg:https://vincianeamorini.be/wp-content/uploads/2013/10/logo-arlon.jpg
END:VEVENT
BEGIN:VEVENT
DTSTART;TZID=Europe/Brussels:20131219T190000
DTEND;TZID=Europe/Brussels:20131219T210000
DTSTAMP:20260423T172943
CREATED:20131216T101822Z
LAST-MODIFIED:20131216T101823Z
UID:3221-1387479600-1387486800@vincianeamorini.be
SUMMARY:Café numérique Namur
DESCRIPTION:La cuisine au centre du numérique\nNous vous invitons au dernier Café Numérique de l’année 2013\, où nous parlerons de la cuisine au centre du numérique! \nLa cuisine est l’un des thèmes les plus populaires et les plus discutés sur internet\, aujourd’hui. Les techniques et les suppoerts évoluent\, cependant. Il s’agit également de s’y retrouver. Le Café Numérique Namur a réuni un panel d’experts réputés qui seront présents le 19 décembre prochain au Coworking Namur pour faire le point ainsi qu’échanger sur leurs pratiques et interactions avec la vaste communauté des passionnés de cuisine sur le web. \n
URL:https://vincianeamorini.be/event/cafe-numerique-namur/
LOCATION:Co-Working Namur\, 48 RUE DE FER\, 4E ÉTAGE\, Namur\, Belgium
CATEGORIES:Café numérique
ATTACH;FMTTYPE=image/jpeg:https://vincianeamorini.be/wp-content/uploads/2013/12/logo-namur.jpg
END:VEVENT
END:VCALENDAR