BEGIN:VCALENDAR
VERSION:2.0
PRODID:-//Les Codices de Vicrabb - ECPv5.1.1//NONSGML v1.0//EN
CALSCALE:GREGORIAN
METHOD:PUBLISH
X-WR-CALNAME:Les Codices de Vicrabb
X-ORIGINAL-URL:https://vincianeamorini.be
X-WR-CALDESC:Évènements pour Les Codices de Vicrabb
BEGIN:VTIMEZONE
TZID:Europe/Brussels
BEGIN:DAYLIGHT
TZOFFSETFROM:+0100
TZOFFSETTO:+0200
TZNAME:CEST
DTSTART:20140330T010000
END:DAYLIGHT
BEGIN:STANDARD
TZOFFSETFROM:+0200
TZOFFSETTO:+0100
TZNAME:CET
DTSTART:20141026T010000
END:STANDARD
END:VTIMEZONE
BEGIN:VEVENT
DTSTART;TZID=Europe/Brussels:20140402T183000
DTEND;TZID=Europe/Brussels:20140402T203000
DTSTAMP:20260423T101212
CREATED:20140328T092903Z
LAST-MODIFIED:20140328T093209Z
UID:3664-1396463400-1396470600@vincianeamorini.be
SUMMARY:Les tablettes comme outils d'éducation
DESCRIPTION:L’équipe du Café Numérique de Waterloo se mobilise pour vous proposer une nouvelle avant-soirée conviviale et didactique. Le prochain rendez-vous est fixé au mercredi 2 avril et abordera les tablettes comme outil d’éducation. \nDepuis quelques années\, le marché des tablettes tactiles se développe et se diversifie et les tablettes tactiles ont fait leur entrée dans l’enseignement. Plusieurs collectivités ont doté les établissements afin qu’ils en expérimentent l’usage en classe voire\, à la maison. Les enseignants s’emparent de cet outil et l’expérimentent avec leurs élèves afin d’identifier les enjeux pédagogiques de ce nouveau support. C’est cet aspect « pédagogique » qui sera présenté lors du prochain café Numérique. \nQuatre orateurs\nAutour d’un verre\, dans une ambiance conviviale\, le Café Numérique veut élargir nos connaissances en matière informatique et susciter des rencontres\, voire des projets\, entre les participants… L’entrée est gratuite et ouverte à tous. \nCe mercredi 2 avril 2014\, quatre orateurs aux expériences différentes seront présents pour aborder le thème “Les tablettes comme outil d’éducation » \nBenjamin Nizet : Fondateur du site enseignons.be\, il est à présent responsable pour  fédération la Wallonie – Bruxelles et le Luxembourg du département Microsoft Education. \nPascale Doucet\, logopède\, formée en gestion mentale. Formatrice\, Conférencière dans les écoles\, les centres de rééducations\, au Salon de l’Education. Intervenante en communication alternative\, elle est spécialisée dans l’utilisation de l’Ipad en pédagogie. \nThomas Verhulst et Guy Coupez : Amateurs des trucs\, astuces et bon tuyaux\, ils réaliseront un tour d’horizon des applications éducatives les plus pertinentes…à leur connaissance. \n“Les tablettes comme outil d’éducation ” : Café Numérique de Waterloo\, le mercredi 2 avril au Bar de “L’Amusoir”\, 123\, chaussée de Bruxelles. Ouverture des portes à 18 h 30. Premières interventions dès 19 h. Entrée gratuite. Ouvert à tous\, tous niveaux confondus. Inscriptions souhaitées : 02 352 99 19 cafenumeriquewaterloo@waterloo.eu \n
URL:https://vincianeamorini.be/event/les-tablettes-comme-outils-deducation/
LOCATION:Bar de l’Amusoir\, 123 chaussée de Bruxelles\, Waterloo\, Brabant Wallon\, 1410\, Belgium
CATEGORIES:Café numérique
ATTACH;FMTTYPE=image/jpeg:https://vincianeamorini.be/wp-content/uploads/2013/11/logo-waterloo.jpg
END:VEVENT
BEGIN:VEVENT
DTSTART;TZID=Europe/Brussels:20140402T190000
DTEND;TZID=Europe/Brussels:20140402T213000
DTSTAMP:20260423T101212
CREATED:20140313T095202Z
LAST-MODIFIED:20140313T095202Z
UID:3574-1396465200-1396474200@vincianeamorini.be
SUMMARY:OpenERP\, success story belge
DESCRIPTION:OpenERP\, success story belge – Café numérique Liège\nOpenERP\, anciennement TinyERP\, est un logiciel ERP Open Source créé en 2005 par Fabien Pinckaers. \nCette success story belge est aujourd’hui internationale. La société emploi 200 personnes et possède 400 partenaires dans plus de 80 pays. 1500 développeurs contribuent à la solution chaque jour. \nLes fonctionnalités nécessaires à la gestion de votre entreprise\, magasin physique\, site web & e-commerce y sont intégrées. OpenERP est un logiciel libre personnalisable à souhait pour tout type d’entreprise\, autant pour les petites que les grands comptes. \nNous vous proposons une démonstration du logiciel par son fondateur Fabien Pinckaers ainsi que son collègue Nicolas Roussey\, suivie d’un case study de l’implémentation du logiciel pour la société Elneo présentée par Mathieu Bouhy. \n
URL:https://vincianeamorini.be/event/openerp-success-story-belge/
LOCATION:Elneo\, Rue de l'estampage 7\, Awans\, 4340
CATEGORIES:Café numérique
ATTACH;FMTTYPE=image/jpeg:https://vincianeamorini.be/wp-content/uploads/2013/10/logo-liege.jpg
END:VEVENT
END:VCALENDAR