BEGIN:VCALENDAR
VERSION:2.0
PRODID:-//Les Codices de Vicrabb - ECPv5.1.1//NONSGML v1.0//EN
CALSCALE:GREGORIAN
METHOD:PUBLISH
X-WR-CALNAME:Les Codices de Vicrabb
X-ORIGINAL-URL:https://vincianeamorini.be
X-WR-CALDESC:Évènements pour Les Codices de Vicrabb
BEGIN:VTIMEZONE
TZID:Europe/Brussels
BEGIN:DAYLIGHT
TZOFFSETFROM:+0100
TZOFFSETTO:+0200
TZNAME:CEST
DTSTART:20140330T010000
END:DAYLIGHT
BEGIN:STANDARD
TZOFFSETFROM:+0200
TZOFFSETTO:+0100
TZNAME:CET
DTSTART:20141026T010000
END:STANDARD
END:VTIMEZONE
BEGIN:VEVENT
DTSTART;TZID=Europe/Brussels:20140410T190000
DTEND;TZID=Europe/Brussels:20140410T210000
DTSTAMP:20260423T101315
CREATED:20140328T093123Z
LAST-MODIFIED:20140328T093123Z
UID:3665-1397156400-1397163600@vincianeamorini.be
SUMMARY:Les multiples facettes du jeu vidéo
DESCRIPTION:Qui n’a jamais entendu parler de Nintendo\, de la PS4\, de Xbox Live\, de personnages comme Mario ou de séries comme Call of Duty\, Half-Life\, Pokémon\, Angry Birds ou The Legend of Zelda? Les jeux vidéo sont entrés dans notre quotidien\, que ce soit sur les ordinateurs\, les tablettes\, les smartphones ou les consoles. \nLe Café numérique d’avril vous propose donc une thématique autour du jeu vidéo comme un moyen d’expression\, de communication\, d’éducation et s’intéressera aux équipes qui\, parfois pendant des années\, développent\, écrivent et communiquent autour d’un jeu ainsi qu’à ceux qui utilisent ce média dans leurs pratiques professionnelles. Qui sont donc ces hommes et femmes de l’ombre qui consacrent leur métier afin de divertir des millions de joueurs à travers le monde? A quelles difficultés peuvent-ils être confrontés? \nOrateurs\nBestOfWar/BelgeekTV nous racontera comment le jeu-vidéo influence positivement sa vie. \nCe jeune homme de 18 ans est l’un des YouTubers les plus influents de Belgique. Son parcours intéressant démarre à 14 ans où il commence à faire des vidéos pour le fun\, il en est aujourd’hui à réaliser une émission chaque semaine et est invité dans les plus grands événements liés aux jeux vidéo (Paris et Cologne dernièrement). \nPartenaire et testeur pour Ubisoft Belgique\, il désire devenir chef de projet dans un studio de jeux… de quoi bien montrer comment le jeu vidéo peut influencer positivement la vie des jeunes. \nhttps://www.youtube.com/user/BelgeekTV \nYasmine Kasbi nous expliquera comment le jeu vidéo peut être utilisé comme média de communication et d’éducation. \nLes supports de communication se transforment en fonction de l’évolution des nouvelles technologies. Les jeux vidéo et la Gamification\, de plus en plus prisés dans notre société\, troquent tablettes et smartphones en consoles pour mettre en place ce que l’on nomme dans le jargon\, des Advergames\, une sous-classification des Serious Games. Ils permettent un meilleur impact en matière de communication et dans divers domaines tels la santé\, la prévention\, la publicité\, la politique et la diversité. \nFabrice Lété nous présentera un panorama des métiers du jeu vidéo \nLe jeu vidéo est à la croisée des chemins entre technique et création artistique. Les principaux métiers impliqués sont donc étalés sur ces deux axes. Au cours de la présentation illustrée d’une série de spécialisations\, on verra ce qu’implique la réalisation de tels jeux\, qu’il s’agisse de petites ou de grosses productions\, et aussi la façon dont ces métiers sont perçus. \nFabrice Lété est programmeur dans le milieu du jeu vidéo depuis plus d’une dizaine d’années\, il a contribué à une série de productions (pc\, consoles\, mobile) dans diverses sociétés\, et donne désormais des cours et formations dans plusieurs écoles de jeu vidéo. \nBrieuc Barthelemy\, abordera le côté pratique et technologique que la création d’un jeu nécessite. \n[à confirmer]\n
URL:https://vincianeamorini.be/event/les-multiples-facettes-du-jeu-video/
LOCATION:Switch CoWorking\, Avenue Général Michel\, 1 \, Charleroi\, Hainaut\, 6000\, Belgium
CATEGORIES:Café numérique
ATTACH;FMTTYPE=image/jpeg:https://vincianeamorini.be/wp-content/uploads/2013/10/TW-charleroi.jpg
END:VEVENT
END:VCALENDAR