BEGIN:VCALENDAR
VERSION:2.0
PRODID:-//Les Codices de Vicrabb - ECPv5.1.1//NONSGML v1.0//EN
CALSCALE:GREGORIAN
METHOD:PUBLISH
X-WR-CALNAME:Les Codices de Vicrabb
X-ORIGINAL-URL:https://vincianeamorini.be
X-WR-CALDESC:Évènements pour Les Codices de Vicrabb
BEGIN:VTIMEZONE
TZID:Europe/Brussels
BEGIN:DAYLIGHT
TZOFFSETFROM:+0100
TZOFFSETTO:+0200
TZNAME:CEST
DTSTART:20140330T010000
END:DAYLIGHT
BEGIN:STANDARD
TZOFFSETFROM:+0200
TZOFFSETTO:+0100
TZNAME:CET
DTSTART:20141026T010000
END:STANDARD
END:VTIMEZONE
BEGIN:VEVENT
DTSTART;TZID=Europe/Brussels:20140428T190000
DTEND;TZID=Europe/Brussels:20140428T213000
DTSTAMP:20260423T083345
CREATED:20140313T100047Z
LAST-MODIFIED:20140313T100047Z
UID:3580-1398711600-1398720600@vincianeamorini.be
SUMMARY:L’e-reputation
DESCRIPTION:L’e-reputation – Café numérique Tournai\nDeux experts de l’e-réputation reconnus en tant que tel viendront partager leurs expérinces. Ils nous donneront des trucs et astuces afin de gérer au mieux notre e-réputation !! \n
URL:https://vincianeamorini.be/event/le-reputation/
LOCATION:ESCO ESPACE COWORKING TOURNAI\, Rue du Pont 6\, Tournai\, 7500\, Belgium
CATEGORIES:Café numérique
ATTACH;FMTTYPE=image/jpeg:https://vincianeamorini.be/wp-content/uploads/2013/12/logo-tournai.jpg
END:VEVENT
BEGIN:VEVENT
DTSTART;TZID=Europe/Brussels:20140428T190000
DTEND;TZID=Europe/Brussels:20140428T210000
DTSTAMP:20260423T083345
CREATED:20140417T090800Z
LAST-MODIFIED:20140417T090800Z
UID:3795-1398711600-1398718800@vincianeamorini.be
SUMMARY:L'informatique chez les enfants
DESCRIPTION:L’informatique chez les enfants – Café numérique Arlon\nAprès l’énorme succès de notre évènement passé CNA4Kids – Devoxx4Kids Arlon nous vous proposons une nouvelle séance pour les enfants. Mais cette fois-ci retour à notre bon vieux Café Numérique Arlon en soirée! En effet\, nous vous proposons une séance d’information sur l’informatique chez les enfants. Les points abordés lors de cet évènement seront: \n\nRetour d’expérience du CNA4Kids – Devoxx4Kids Arlon\nLes associations pour la promotion de l’informatique\, robotique et autres nouvelles technologies chez les enfants\nLes outils disponibles pour apprendre l’informatique et la robotique aux enfants\n\nNous aurons le plaisir d’accueillir entre autres Didier Pirottin dans le cadre de Devoxx4Kids Belgium \nPour ne pas changer\, cet évènement est gratuit\, mais l’inscription est obligatoire sur EventBrite. \n
URL:https://vincianeamorini.be/event/linformatique-chez-les-enfants/
LOCATION:InforJeunes Arlon\, PLACE DIDIER 31\, Arlon\, Luxembourg\, 6700\, Belgium
CATEGORIES:Café numérique
ATTACH;FMTTYPE=image/jpeg:https://vincianeamorini.be/wp-content/uploads/2013/10/logo-arlon.jpg
END:VEVENT
END:VCALENDAR