BEGIN:VCALENDAR
VERSION:2.0
PRODID:-//Les Codices de Vicrabb - ECPv5.1.1//NONSGML v1.0//EN
CALSCALE:GREGORIAN
METHOD:PUBLISH
X-WR-CALNAME:Les Codices de Vicrabb
X-ORIGINAL-URL:https://vincianeamorini.be
X-WR-CALDESC:Évènements pour Les Codices de Vicrabb
BEGIN:VTIMEZONE
TZID:Europe/Brussels
BEGIN:DAYLIGHT
TZOFFSETFROM:+0100
TZOFFSETTO:+0200
TZNAME:CEST
DTSTART:20140330T010000
END:DAYLIGHT
BEGIN:STANDARD
TZOFFSETFROM:+0200
TZOFFSETTO:+0100
TZNAME:CET
DTSTART:20141026T010000
END:STANDARD
END:VTIMEZONE
BEGIN:VEVENT
DTSTART;VALUE=DATE:20140507
DTEND;VALUE=DATE:20140508
DTSTAMP:20260423T083520
CREATED:20140313T093422Z
LAST-MODIFIED:20140313T093422Z
UID:3565-1399420800-1399507199@vincianeamorini.be
SUMMARY:REWICS
DESCRIPTION:Ce 7 mai 2014\, Technofutur TIC et ses partenaires habituels organisent la 13e édition des Rewics\, Forum des Territoires numériques innovants.\n  \n\nUne journée de conférences\, d’ateliers\, de rencontres\, d’échanges autour des potentialités du Numérique dans la transformation des territoires\, de la création\, des modes de travail\, du lien social\, de l’identité numérique\,… \nUne journée autour du concept de l’innovation sociale\, dont nous avons fait un fil conducteur des Rencontres depuis 6 ou 7 ans. \nUne journée inspirée par les usages\, qu’on évoquera dans de nombreux ateliers mais aussi lors d’animations. \nUne journée ouverte aux responsables de politiques publiques\, aux enseignants\, aux espaces publiques numériques\, aux acteurs sociaux\, aux animateurs sociaux et culturels\, aux animateurs de tous ces nouveaux lieux numériques… ainsi qu’aux étudiants et citoyens qui veulent s’approprier les enjeux du numérique. \nEn 2013\, le mouvement des Makers\, du Do It Yourself\, des multiples formes de Lab\, des imprimantes 3D émergeaient. Nous avions appréhendé la problématique\, cette année nous allons l’approfondir\, avec de nombreux témoignages\, cas. \nLe programme se construit progressivement avec de nombreux acteurs belges et français. Vous pouvez en avoir déjà une esquisse en ligne. Le programme définitif sera mis en ligne d’ici le 7 mars. \nQuelques lignes de force de ce 7 mai 2014 : \n\nLes territoires numériques : gouvernance\, animation\, intérêt\, identité\,…\n\n\nL’intelligence organisationnelle d’un groupe\, d’une communauté : comment cela fonctionne\, comment la susciter\, comment s’inspirer des méthodologies Lean\, Agile ?\n\n\nCo-concevoir\, co-créer\, co-produire\, Fabs labs\, DIY…. D’où ça vient\, à quoi ça sert\, comment ça peut servir en termes d’inclusion sociale\n\n\nLes tiers-lieux qui se multiplient : EPN\, FabLab\, MediaLab\, Coworking\, Repair Cafés\, hackerspaces\, Hackathons\, espaces contributifs\,….\n\nLes questions juridiques liées au Cloud et à la vie privée\, ainsi qu’aux nouveaux modes ouverts de création \n\nDes ateliers pratiques avec les meilleurs outils que nous avons découvert pour les community managers\, les responsables de veille\,…\n\nAvec cette année\, encore plus d’animations et espaces où pratiquer\, tester\, produire. Découvrez le préprogramme. \nN’hésitez pas vous inscrire dès maintenant\, c’est gratuit\, et à faire toute proposition sur le programme. Parlez-en aussi autour de vous et surtout\, rendez-vous ce 7 mai !\n
URL:https://vincianeamorini.be/event/rewics/
LOCATION:La Géode\, Rue de l'Ancre\, Charleroi\, 6000\, Belgium
CATEGORIES:Divers
END:VEVENT
BEGIN:VEVENT
DTSTART;TZID=Europe/Brussels:20140507T190000
DTEND;TZID=Europe/Brussels:20140507T210000
DTSTAMP:20260423T083520
CREATED:20140328T093834Z
LAST-MODIFIED:20140328T093834Z
UID:3666-1399489200-1399496400@vincianeamorini.be
SUMMARY:Blogueuses mode
DESCRIPTION:La mode est un éternel sujet d’actualité\, au moins deux fois par an (parfois plus) maisons de haute-couture comme enseignes de prêt à porter se livre une lutte fratricide pour nous proposer leur nouvelle collection\, balayant ainsi les efforts des 6 mois passés. \nHeureusement\, de jeunes aventurières du net\, toujours tirées à quatre épingles sont là pour nous aider à nous y retrouver dans la jungle des griffes\, des tendances\, du look ! \nVenez à leur rencontre lors d’un Café Numérique qui leur sera dédié ! \n
URL:https://vincianeamorini.be/event/blogueuses-mode/
CATEGORIES:Café numérique
ATTACH;FMTTYPE=image/jpeg:https://vincianeamorini.be/wp-content/uploads/2013/10/logo-bruxelles.jpg
END:VEVENT
END:VCALENDAR