BEGIN:VCALENDAR
VERSION:2.0
PRODID:-//Les Codices de Vicrabb - ECPv5.1.1//NONSGML v1.0//EN
CALSCALE:GREGORIAN
METHOD:PUBLISH
X-WR-CALNAME:Les Codices de Vicrabb
X-ORIGINAL-URL:https://vincianeamorini.be
X-WR-CALDESC:Évènements pour Les Codices de Vicrabb
BEGIN:VTIMEZONE
TZID:Europe/Brussels
BEGIN:DAYLIGHT
TZOFFSETFROM:+0100
TZOFFSETTO:+0200
TZNAME:CEST
DTSTART:20140330T010000
END:DAYLIGHT
BEGIN:STANDARD
TZOFFSETFROM:+0200
TZOFFSETTO:+0100
TZNAME:CET
DTSTART:20141026T010000
END:STANDARD
END:VTIMEZONE
BEGIN:VEVENT
DTSTART;TZID=Europe/Brussels:20140710T183000
DTEND;TZID=Europe/Brussels:20140710T210000
DTSTAMP:20260423T045547
CREATED:20140704T093651Z
LAST-MODIFIED:20140709T134854Z
UID:4117-1405017000-1405026000@vincianeamorini.be
SUMMARY:Apéro numérique
DESCRIPTION:Apéro numérique du Café Numérique de Charleroi le 10 juillet à la Vie est Belge! \n
URL:https://vincianeamorini.be/event/apero-numerique/
LOCATION:La Vie est Belge\, Rue de Marcinelle 12\, Charleroi\, Hainaut\, 6000\, Belgium
CATEGORIES:Café numérique
ATTACH;FMTTYPE=image/jpeg:https://vincianeamorini.be/wp-content/uploads/2013/10/TW-charleroi.jpg
END:VEVENT
END:VCALENDAR